BEGIN:VCALENDAR
VERSION:2.0
PRODID:-//Mountsorrel Heritage Group - ECPv6.15.11//NONSGML v1.0//EN
CALSCALE:GREGORIAN
METHOD:PUBLISH
X-WR-CALNAME:Mountsorrel Heritage Group
X-ORIGINAL-URL:https://mountsorrelarchive.org
X-WR-CALDESC:Events for Mountsorrel Heritage Group
REFRESH-INTERVAL;VALUE=DURATION:PT1H
X-Robots-Tag:noindex
X-PUBLISHED-TTL:PT1H
BEGIN:VTIMEZONE
TZID:UTC
BEGIN:STANDARD
TZOFFSETFROM:+0000
TZOFFSETTO:+0000
TZNAME:UTC
DTSTART:20240101T000000
END:STANDARD
END:VTIMEZONE
BEGIN:VEVENT
DTSTART;TZID=UTC:20250909T193000
DTEND;TZID=UTC:20250909T210000
DTSTAMP:20260421T194627
CREATED:20241209T165414Z
LAST-MODIFIED:20241209T165416Z
UID:34938-1757446200-1757451600@mountsorrelarchive.org
SUMMARY:Jarrow March by Graham Pirt
DESCRIPTION:
URL:https://mountsorrelarchive.org/event/jarrow-march-by-graham-pirt/
END:VEVENT
END:VCALENDAR